BEGIN:VCALENDAR
VERSION:2.0
PRODID:-//Pemi-Baker Beekeepers Association - ECPv6.15.20//NONSGML v1.0//EN
CALSCALE:GREGORIAN
METHOD:PUBLISH
X-ORIGINAL-URL:https://www.pemibakerba.org
X-WR-CALDESC:Events for Pemi-Baker Beekeepers Association
REFRESH-INTERVAL;VALUE=DURATION:PT1H
X-Robots-Tag:noindex
X-PUBLISHED-TTL:PT1H
BEGIN:VTIMEZONE
TZID:America/New_York
BEGIN:DAYLIGHT
TZOFFSETFROM:-0500
TZOFFSETTO:-0400
TZNAME:EDT
DTSTART:20230312T070000
END:DAYLIGHT
BEGIN:STANDARD
TZOFFSETFROM:-0400
TZOFFSETTO:-0500
TZNAME:EST
DTSTART:20231105T060000
END:STANDARD
BEGIN:DAYLIGHT
TZOFFSETFROM:-0500
TZOFFSETTO:-0400
TZNAME:EDT
DTSTART:20240310T070000
END:DAYLIGHT
BEGIN:STANDARD
TZOFFSETFROM:-0400
TZOFFSETTO:-0500
TZNAME:EST
DTSTART:20241103T060000
END:STANDARD
BEGIN:DAYLIGHT
TZOFFSETFROM:-0500
TZOFFSETTO:-0400
TZNAME:EDT
DTSTART:20250309T070000
END:DAYLIGHT
BEGIN:STANDARD
TZOFFSETFROM:-0400
TZOFFSETTO:-0500
TZNAME:EST
DTSTART:20251102T060000
END:STANDARD
END:VTIMEZONE
BEGIN:VEVENT
DTSTART;TZID=America/New_York:20241210T190000
DTEND;TZID=America/New_York:20241210T210000
DTSTAMP:20260421T173142
CREATED:20240106T214649Z
LAST-MODIFIED:20241210T000716Z
UID:2588-1733857200-1733864400@www.pemibakerba.org
SUMMARY:Monthly Meeting December
DESCRIPTION:Pemi-Baker Beekeepers Association Monthly Meeting at the Ashland Booster Club in Ashland. \nDecember 2024 meeting agenda
URL:https://www.pemibakerba.org/event/monthly-meeting-december-3/
LOCATION:Ashland Booster Club\, 99 Main Street\, Ashland\, NH\, 03217\, United States
END:VEVENT
END:VCALENDAR