BEGIN:VCALENDAR
VERSION:2.0
PRODID:-//Pemi-Baker Beekeepers Association - ECPv6.15.20//NONSGML v1.0//EN
CALSCALE:GREGORIAN
METHOD:PUBLISH
X-ORIGINAL-URL:https://www.pemibakerba.org
X-WR-CALDESC:Events for Pemi-Baker Beekeepers Association
REFRESH-INTERVAL;VALUE=DURATION:PT1H
X-Robots-Tag:noindex
X-PUBLISHED-TTL:PT1H
BEGIN:VTIMEZONE
TZID:America/New_York
BEGIN:DAYLIGHT
TZOFFSETFROM:-0500
TZOFFSETTO:-0400
TZNAME:EDT
DTSTART:20240310T070000
END:DAYLIGHT
BEGIN:STANDARD
TZOFFSETFROM:-0400
TZOFFSETTO:-0500
TZNAME:EST
DTSTART:20241103T060000
END:STANDARD
BEGIN:DAYLIGHT
TZOFFSETFROM:-0500
TZOFFSETTO:-0400
TZNAME:EDT
DTSTART:20250309T070000
END:DAYLIGHT
BEGIN:STANDARD
TZOFFSETFROM:-0400
TZOFFSETTO:-0500
TZNAME:EST
DTSTART:20251102T060000
END:STANDARD
BEGIN:DAYLIGHT
TZOFFSETFROM:-0500
TZOFFSETTO:-0400
TZNAME:EDT
DTSTART:20260308T070000
END:DAYLIGHT
BEGIN:STANDARD
TZOFFSETFROM:-0400
TZOFFSETTO:-0500
TZNAME:EST
DTSTART:20261101T060000
END:STANDARD
BEGIN:DAYLIGHT
TZOFFSETFROM:-0500
TZOFFSETTO:-0400
TZNAME:EDT
DTSTART:20270314T070000
END:DAYLIGHT
BEGIN:STANDARD
TZOFFSETFROM:-0400
TZOFFSETTO:-0500
TZNAME:EST
DTSTART:20271107T060000
END:STANDARD
END:VTIMEZONE
BEGIN:VEVENT
DTSTART;TZID=America/New_York:20250513T190000
DTEND;TZID=America/New_York:20250513T210000
DTSTAMP:20260419T082227
CREATED:20250212T151543Z
LAST-MODIFIED:20250212T151650Z
UID:2902-1747162800-1747170000@www.pemibakerba.org
SUMMARY:Monthly Meeting May
DESCRIPTION:Pemi-Baker Beekeepers Association Monthly Meeting at the Ashland Booster Club in Ashland and on Zoom. \nMay 2025 Meeting Agenda
URL:https://www.pemibakerba.org/event/monthly-meeting-may-3/
LOCATION:Ashland Booster Club\, 99 Main Street\, Ashland\, NH\, 03217\, United States
END:VEVENT
BEGIN:VEVENT
DTSTART;TZID=America/New_York:20250523T180000
DTEND;TZID=America/New_York:20250523T210000
DTSTAMP:20260419T082227
CREATED:20250422T135356Z
LAST-MODIFIED:20250422T135356Z
UID:2962-1748023200-1748034000@www.pemibakerba.org
SUMMARY:PBBA at  Waterville for presentation
DESCRIPTION:
URL:https://www.pemibakerba.org/event/pbba-at-waterville-for-presentation/
END:VEVENT
BEGIN:VEVENT
DTSTART;TZID=America/New_York:20250610T190000
DTEND;TZID=America/New_York:20250610T210000
DTSTAMP:20260419T082227
CREATED:20250212T151628Z
LAST-MODIFIED:20250609T002455Z
UID:2904-1749582000-1749589200@www.pemibakerba.org
SUMMARY:Monthly Meeting June
DESCRIPTION:Pemi-Baker Beekeepers Association Monthly Meeting at the Ashland Booster Club in Ashland and on Zoom. \nJune 2025 Meeting Agenda
URL:https://www.pemibakerba.org/event/monthly-meeting-june-3/
LOCATION:Ashland Booster Club\, 99 Main Street\, Ashland\, NH\, 03217\, United States
END:VEVENT
BEGIN:VEVENT
DTSTART;TZID=America/New_York:20250708T190000
DTEND;TZID=America/New_York:20250708T210000
DTSTAMP:20260419T082227
CREATED:20250212T151735Z
LAST-MODIFIED:20250707T011028Z
UID:2907-1752001200-1752008400@www.pemibakerba.org
SUMMARY:Monthly Meeting July
DESCRIPTION:Pemi-Baker Beekeepers Association Monthly Meeting at the Ashland Booster Club in Ashland and on Zoom. \nJuly 2025 Meeting Agenda
URL:https://www.pemibakerba.org/event/monthly-meeting-julypemi-baker-beekeepers-association-monthly-meeting-at-the-ashland-booster-club-in-ashland-and-on-zoom-april-2025-meeting-agendapemi-baker-beekeepers-association-monthly-meeting-at/
LOCATION:Ashland Booster Club\, 99 Main Street\, Ashland\, NH\, 03217\, United States
END:VEVENT
BEGIN:VEVENT
DTSTART;TZID=America/New_York:20250714T150000
DTEND;TZID=America/New_York:20250714T160000
DTSTAMP:20260419T082227
CREATED:20250703T011810Z
LAST-MODIFIED:20250703T011810Z
UID:2993-1752505200-1752508800@www.pemibakerba.org
SUMMARY:Thornton Library Presentation
DESCRIPTION:
URL:https://www.pemibakerba.org/event/thornton-library-presentation/
LOCATION:Thornton Library
END:VEVENT
BEGIN:VEVENT
DTSTART;TZID=America/New_York:20250726T110000
DTEND;TZID=America/New_York:20250726T153000
DTSTAMP:20260419T082227
CREATED:20250610T132246Z
LAST-MODIFIED:20250610T132246Z
UID:2976-1753527600-1753543800@www.pemibakerba.org
SUMMARY:2025 NHBA Muster Field Picnic
DESCRIPTION:
URL:https://www.pemibakerba.org/event/2025-nhba-muster-field-picnic/
LOCATION:Muster Field Farm Museum
END:VEVENT
BEGIN:VEVENT
DTSTART;TZID=America/New_York:20250807T140000
DTEND;TZID=America/New_York:20250807T160000
DTSTAMP:20260419T082227
CREATED:20250422T135552Z
LAST-MODIFIED:20250807T115913Z
UID:2966-1754575200-1754582400@www.pemibakerba.org
SUMMARY:Plymouth MWM Presentation
DESCRIPTION:
URL:https://www.pemibakerba.org/event/plymouth-mwm-presentation/
END:VEVENT
BEGIN:VEVENT
DTSTART;TZID=America/New_York:20250812T190000
DTEND;TZID=America/New_York:20250812T210000
DTSTAMP:20260419T082227
CREATED:20250212T151816Z
LAST-MODIFIED:20250810T233613Z
UID:2909-1755025200-1755032400@www.pemibakerba.org
SUMMARY:Monthly Meeting August
DESCRIPTION:Pemi-Baker Beekeepers Association Monthly Meeting at the Ashland Booster Club in Ashland and on Zoom. \nAugust 2025 Meeting Agenda
URL:https://www.pemibakerba.org/event/monthly-meeting-august-3/
LOCATION:Ashland Booster Club\, 99 Main Street\, Ashland\, NH\, 03217\, United States
END:VEVENT
BEGIN:VEVENT
DTSTART;TZID=America/New_York:20250816T110000
DTEND;TZID=America/New_York:20250816T140000
DTSTAMP:20260419T082227
CREATED:20250422T135458Z
LAST-MODIFIED:20250730T003723Z
UID:2964-1755342000-1755352800@www.pemibakerba.org
SUMMARY:Save The Bees
DESCRIPTION:
URL:https://www.pemibakerba.org/event/save-the-bees/
LOCATION:Campton Commons\, Rt 49\, Campton\, NH\, United States
END:VEVENT
BEGIN:VEVENT
DTSTART;TZID=America/New_York:20250910T190000
DTEND;TZID=America/New_York:20250910T210000
DTSTAMP:20260419T082227
CREATED:20250212T151902Z
LAST-MODIFIED:20250908T010916Z
UID:2911-1757530800-1757538000@www.pemibakerba.org
SUMMARY:Monthly Meeting September (Wednesday)
DESCRIPTION:Pemi-Baker Beekeepers Association Monthly Meeting at the Ashland Booster Club in Ashland and on Zoom. \nSeptember 2025 Meeting Agenda
URL:https://www.pemibakerba.org/event/monthly-meeting-september-3/
LOCATION:Ashland Booster Club\, 99 Main Street\, Ashland\, NH\, 03217\, United States
END:VEVENT
BEGIN:VEVENT
DTSTART;TZID=America/New_York:20250927T100000
DTEND;TZID=America/New_York:20250927T140000
DTSTAMP:20260419T082227
CREATED:20250903T232610Z
LAST-MODIFIED:20250903T232610Z
UID:3032-1758967200-1758981600@www.pemibakerba.org
SUMMARY:Campton Old Home Day
DESCRIPTION:Campton Old Home Day Flyer
URL:https://www.pemibakerba.org/event/campton-old-home-day/
LOCATION:Campton Historical Society\, 529 Rte. 175\, Campton\, NH\, United States
END:VEVENT
BEGIN:VEVENT
DTSTART;TZID=America/New_York:20251014T080000
DTEND;TZID=America/New_York:20251014T170000
DTSTAMP:20260419T082227
CREATED:20250212T151932Z
LAST-MODIFIED:20251013T011701Z
UID:2913-1760428800-1760461200@www.pemibakerba.org
SUMMARY:Monthly Meeting October
DESCRIPTION:Pemi-Baker Beekeepers Association Monthly Meeting at the Ashland Booster Club in Ashland and on Zoom. \nOctober 2025 Meeting Agenda
URL:https://www.pemibakerba.org/event/monthly-meeting-october-3/
LOCATION:Ashland Booster Club\, 99 Main Street\, Ashland\, NH\, 03217\, United States
END:VEVENT
BEGIN:VEVENT
DTSTART;TZID=America/New_York:20251018T090000
DTEND;TZID=America/New_York:20251018T150000
DTSTAMP:20260419T082227
CREATED:20251013T012156Z
LAST-MODIFIED:20251013T012156Z
UID:3051-1760778000-1760799600@www.pemibakerba.org
SUMMARY:NHBA Fall Meeting
DESCRIPTION:
URL:https://www.pemibakerba.org/event/nhba-fall-meeting/
LOCATION:Whitefield\, NH\, 101 Mountain View Road\, Whitefield\, NH\, 03598
END:VEVENT
BEGIN:VEVENT
DTSTART;TZID=America/New_York:20251111T190000
DTEND;TZID=America/New_York:20251111T210000
DTSTAMP:20260419T082227
CREATED:20250212T152010Z
LAST-MODIFIED:20251109T215341Z
UID:2915-1762887600-1762894800@www.pemibakerba.org
SUMMARY:Monthly Meeting November with guest speaker Dave Wade
DESCRIPTION:Pemi-Baker Beekeepers Association Monthly Meeting at the Ashland Booster Club in Ashland and on Zoom. \nNovember 2025 Meeting Agenda
URL:https://www.pemibakerba.org/event/monthly-meeting-november-3/
LOCATION:Ashland Booster Club\, 99 Main Street\, Ashland\, NH\, 03217\, United States
END:VEVENT
BEGIN:VEVENT
DTSTART;TZID=America/New_York:20251217T190000
DTEND;TZID=America/New_York:20251217T210000
DTSTAMP:20260419T082227
CREATED:20250212T152050Z
LAST-MODIFIED:20251212T224048Z
UID:2917-1765998000-1766005200@www.pemibakerba.org
SUMMARY:Monthly Meeting December Potluck - Rescheduled!
DESCRIPTION:Pemi-Baker Beekeepers Association Monthly Meeting (potluck) at the Ashland Booster Club in Ashland. \nDecember 2025 Meeting Agenda
URL:https://www.pemibakerba.org/event/monthly-meeting-december-2/
LOCATION:Ashland Booster Club\, 99 Main Street\, Ashland\, NH\, 03217\, United States
END:VEVENT
BEGIN:VEVENT
DTSTART;TZID=America/New_York:20260113T190000
DTEND;TZID=America/New_York:20260113T210000
DTSTAMP:20260419T082227
CREATED:20251210T140046Z
LAST-MODIFIED:20260112T001454Z
UID:3106-1768330800-1768338000@www.pemibakerba.org
SUMMARY:Monthly Meeting January
DESCRIPTION:Pemi-Baker Beekeepers Association Monthly Meeting (potluck) at the Ashland Booster Club in Ashland. \nJanuary 2026 Meeting Agenda
URL:https://www.pemibakerba.org/event/monthly-meeting-january/
LOCATION:Ashland Booster Club\, 99 Main Street\, Ashland\, NH\, 03217\, United States
END:VEVENT
BEGIN:VEVENT
DTSTART;TZID=America/New_York:20260114T130000
DTEND;TZID=America/New_York:20260114T150000
DTSTAMP:20260419T082227
CREATED:20260114T191727Z
LAST-MODIFIED:20260114T193233Z
UID:3150-1768395600-1768402800@www.pemibakerba.org
SUMMARY:Health and the Honey Bees
DESCRIPTION:Reyah Carlson and Janice Mercieri will be presenting Health and the Honey Bees. Reyah will be doing live bee stings with her apitherapy portion of the program. The public is welcome.
URL:https://www.pemibakerba.org/event/health-and-the-honey-bees/
LOCATION:Littleton Food Coop\, 43 Bethlehem Rd\, Littleton\, NH\, 03561\, United States
END:VEVENT
BEGIN:VEVENT
DTSTART;TZID=America/New_York:20260210T190000
DTEND;TZID=America/New_York:20260210T210000
DTSTAMP:20260419T082227
CREATED:20251210T140143Z
LAST-MODIFIED:20260209T010928Z
UID:3108-1770750000-1770757200@www.pemibakerba.org
SUMMARY:Monthly Meeting February
DESCRIPTION:Pemi-Baker Beekeepers Association Monthly Meeting at the Ashland Booster Club in Ashland. \nFebruary 2026 Meeting Agenda
URL:https://www.pemibakerba.org/event/monthly-meeting-february/
END:VEVENT
BEGIN:VEVENT
DTSTART;TZID=America/New_York:20260310T190000
DTEND;TZID=America/New_York:20260310T210000
DTSTAMP:20260419T082227
CREATED:20251210T140235Z
LAST-MODIFIED:20260309T002953Z
UID:3110-1773169200-1773176400@www.pemibakerba.org
SUMMARY:Monthly Meeting March (TUESDAY)
DESCRIPTION:Pemi-Baker Beekeepers Association Monthly Meeting at the Ashland Booster Club in Ashland. \nMarch 2026 Meeting Agenda
URL:https://www.pemibakerba.org/event/monthly-meeting-march-3/
END:VEVENT
BEGIN:VEVENT
DTSTART;TZID=America/New_York:20260314T090000
DTEND;TZID=America/New_York:20260314T150000
DTSTAMP:20260419T082227
CREATED:20260304T182537Z
LAST-MODIFIED:20260304T182537Z
UID:3232-1773478800-1773500400@www.pemibakerba.org
SUMMARY:PBBA 2026 Bee School Day 1
DESCRIPTION:
URL:https://www.pemibakerba.org/event/pbba-2026-bee-school-day-1/
LOCATION:Ashland Booster Club\, 99 Main Street\, Ashland\, NH\, 03217\, United States
END:VEVENT
BEGIN:VEVENT
DTSTART;TZID=America/New_York:20260321T090000
DTEND;TZID=America/New_York:20260321T150000
DTSTAMP:20260419T082227
CREATED:20260114T154331Z
LAST-MODIFIED:20260304T185727Z
UID:3144-1774083600-1774105200@www.pemibakerba.org
SUMMARY:2026 NHBA Spring Meeting
DESCRIPTION:
URL:https://www.pemibakerba.org/event/2026-nhba-spring-meeting/
LOCATION:Camp Carpenter\, 300 Blondin Rd\, Manchester\, NH\, 03109\, United States
END:VEVENT
BEGIN:VEVENT
DTSTART;TZID=America/New_York:20260321T090000
DTEND;TZID=America/New_York:20260321T150000
DTSTAMP:20260419T082227
CREATED:20260304T183228Z
LAST-MODIFIED:20260304T185451Z
UID:3237-1774083600-1774105200@www.pemibakerba.org
SUMMARY:PBBA 2026 Bee School Day 2
DESCRIPTION:
URL:https://www.pemibakerba.org/event/pbba-bee-school-day-2/
LOCATION:Ashland Booster Club\, 99 Main Street\, Ashland\, NH\, 03217\, United States
END:VEVENT
BEGIN:VEVENT
DTSTART;TZID=America/New_York:20260328T090000
DTEND;TZID=America/New_York:20260328T150000
DTSTAMP:20260419T082227
CREATED:20260304T183304Z
LAST-MODIFIED:20260304T185458Z
UID:3239-1774688400-1774710000@www.pemibakerba.org
SUMMARY:PBBA 2026 Bee School Day 3
DESCRIPTION:
URL:https://www.pemibakerba.org/event/pbba-bee-school-day-3/
LOCATION:Ashland Booster Club\, 99 Main Street\, Ashland\, NH\, 03217\, United States
END:VEVENT
BEGIN:VEVENT
DTSTART;TZID=America/New_York:20260404T090000
DTEND;TZID=America/New_York:20260404T150000
DTSTAMP:20260419T082227
CREATED:20260304T183333Z
LAST-MODIFIED:20260304T185504Z
UID:3241-1775293200-1775314800@www.pemibakerba.org
SUMMARY:PBBA 2026 Bee School Day 4
DESCRIPTION:
URL:https://www.pemibakerba.org/event/pbba-bee-school-day-4/
END:VEVENT
BEGIN:VEVENT
DTSTART;TZID=America/New_York:20260414T190000
DTEND;TZID=America/New_York:20260414T210000
DTSTAMP:20260419T082227
CREATED:20251210T140327Z
LAST-MODIFIED:20260412T220440Z
UID:3112-1776193200-1776200400@www.pemibakerba.org
SUMMARY:Monthly Meeting April
DESCRIPTION:Pemi-Baker Beekeepers Association Monthly Meeting at the Ashland Booster Club in Ashland. \nApril 2026 Meeting Agenda
URL:https://www.pemibakerba.org/event/monthly-meeting-april/
END:VEVENT
BEGIN:VEVENT
DTSTART;TZID=America/New_York:20260512T190000
DTEND;TZID=America/New_York:20260512T210000
DTSTAMP:20260419T082227
CREATED:20251210T140405Z
LAST-MODIFIED:20260209T002338Z
UID:3114-1778612400-1778619600@www.pemibakerba.org
SUMMARY:Monthly Meeting May
DESCRIPTION:Pemi-Baker Beekeepers Association Monthly Meeting at the Ashland Booster Club in Ashland. \nMay 2026 Meeting Agenda
URL:https://www.pemibakerba.org/event/monthly-meeting-may/
END:VEVENT
BEGIN:VEVENT
DTSTART;TZID=America/New_York:20260516T130000
DTEND;TZID=America/New_York:20260516T160000
DTSTAMP:20260419T082227
CREATED:20260304T183059Z
LAST-MODIFIED:20260304T183134Z
UID:3234-1778936400-1778947200@www.pemibakerba.org
SUMMARY:PBBA Field Trip to Linden Apiary
DESCRIPTION:When:  Saturday\, May 16 from 1pm – 4pm \nWhere: Linden Apiaries in Alstead\, NH (about 1 hour\, 50 minutes from Ashland) \nWho:  Charles Frederic Andros\, Master Beekeeper and former NH/VT apiary inspector\, http://www.youtube.com/watch?v=Qc4sMwmEwiE \nTopics of Discussion:  Mr. Andros will be going through a number of different techniques that would aids us in raising our colonies which will include finding queens\, requeening colonies\, pollen collection\, swarm control\, supering\, and bee venom therapy. \nCost:  $30 per person which includes lunch and gas.  PBBA will cover the workshop fee. \nQuestions?:  Email rebeccag@pemibakerba.org
URL:https://www.pemibakerba.org/event/pbba-field-trip-to-linden-apiary/
END:VEVENT
BEGIN:VEVENT
DTSTART;TZID=America/New_York:20260516T130000
DTEND;TZID=America/New_York:20260516T160000
DTSTAMP:20260419T082227
CREATED:20260403T201539Z
LAST-MODIFIED:20260403T201539Z
UID:3266-1778936400-1778947200@www.pemibakerba.org
SUMMARY:Linden Apiaries Field Trip
DESCRIPTION:Field Trip Flier
URL:https://www.pemibakerba.org/event/linden-apiaries-field-trip/
LOCATION:Alstead\, NH
END:VEVENT
BEGIN:VEVENT
DTSTART;TZID=America/New_York:20260530T080000
DTEND;TZID=America/New_York:20260530T170000
DTSTAMP:20260419T082227
CREATED:20260403T201740Z
LAST-MODIFIED:20260403T201740Z
UID:3271-1780128000-1780160400@www.pemibakerba.org
SUMMARY:Bee School Hands on Field Trip
DESCRIPTION:This is an event for 2026 bee school students to get a hands on experience at the club’s apiary.
URL:https://www.pemibakerba.org/event/bee-school-hands-on-field-trip/
END:VEVENT
BEGIN:VEVENT
DTSTART;TZID=America/New_York:20260609T190000
DTEND;TZID=America/New_York:20260609T210000
DTSTAMP:20260419T082227
CREATED:20251210T140438Z
LAST-MODIFIED:20260209T002358Z
UID:3116-1781031600-1781038800@www.pemibakerba.org
SUMMARY:Monthly Meeting June
DESCRIPTION:Pemi-Baker Beekeepers Association Monthly Meeting at the Ashland Booster Club in Ashland. \nJune 2026 Meeting Agenda
URL:https://www.pemibakerba.org/event/monthly-meeting-june/
END:VEVENT
END:VCALENDAR