BEGIN:VCALENDAR
VERSION:2.0
PRODID:-//Pemi-Baker Beekeepers Association - ECPv6.15.20//NONSGML v1.0//EN
CALSCALE:GREGORIAN
METHOD:PUBLISH
X-WR-CALNAME:Pemi-Baker Beekeepers Association
X-ORIGINAL-URL:https://www.pemibakerba.org
X-WR-CALDESC:Events for Pemi-Baker Beekeepers Association
REFRESH-INTERVAL;VALUE=DURATION:PT1H
X-Robots-Tag:noindex
X-PUBLISHED-TTL:PT1H
BEGIN:VTIMEZONE
TZID:America/New_York
BEGIN:DAYLIGHT
TZOFFSETFROM:-0500
TZOFFSETTO:-0400
TZNAME:EDT
DTSTART:20230312T070000
END:DAYLIGHT
BEGIN:STANDARD
TZOFFSETFROM:-0400
TZOFFSETTO:-0500
TZNAME:EST
DTSTART:20231105T060000
END:STANDARD
BEGIN:DAYLIGHT
TZOFFSETFROM:-0500
TZOFFSETTO:-0400
TZNAME:EDT
DTSTART:20240310T070000
END:DAYLIGHT
BEGIN:STANDARD
TZOFFSETFROM:-0400
TZOFFSETTO:-0500
TZNAME:EST
DTSTART:20241103T060000
END:STANDARD
BEGIN:DAYLIGHT
TZOFFSETFROM:-0500
TZOFFSETTO:-0400
TZNAME:EDT
DTSTART:20250309T070000
END:DAYLIGHT
BEGIN:STANDARD
TZOFFSETFROM:-0400
TZOFFSETTO:-0500
TZNAME:EST
DTSTART:20251102T060000
END:STANDARD
END:VTIMEZONE
BEGIN:VEVENT
DTSTART;TZID=America/New_York:20240503T090000
DTEND;TZID=America/New_York:20240504T160000
DTSTAMP:20260422T180100
CREATED:20240424T152015Z
LAST-MODIFIED:20240424T152015Z
UID:2686-1714726800-1714838400@www.pemibakerba.org
SUMMARY:NH Farm\, Forest and Garden Expo
DESCRIPTION:New Hampshire Beekeepers Association (NHBA) is seeking 30 volunteers to volunteer for (2) hour time slots at their booth at The Farm and Forest Expo.  The Expo runs May 3rd 9am to 7pm and May 4th 9am to 4pm at the Deerfield Fair Grounds.  No experience necessary\, brand new beekeepers are welcomed. \nThis is a great opportunity to hang out with fellow beekeepers and talk with Expo attendees about beekeeping.  There will be an observation hive and kids (and adults) love to watch the bees and try to find the (marked) queen.  NHBA provides some giveaways such as stickers for finding the queen and informational brochures\, etc. \nAs a booth volunteer you will be granted complimentary entrance to the Expo and can spend time wandering before or after your shift at the booth! \nIf interested you can text Cecile at 603-494-7510 with your name\, club affiliation and availability. \nThanks!
URL:https://www.pemibakerba.org/event/nh-farm-forest-and-garden-expo/
LOCATION:Deerfield Fair Grounds\, NH
END:VEVENT
END:VCALENDAR