BEGIN:VCALENDAR
VERSION:2.0
PRODID:-//Pemi-Baker Beekeepers Association - ECPv6.15.20//NONSGML v1.0//EN
CALSCALE:GREGORIAN
METHOD:PUBLISH
X-ORIGINAL-URL:https://www.pemibakerba.org
X-WR-CALDESC:Events for Pemi-Baker Beekeepers Association
REFRESH-INTERVAL;VALUE=DURATION:PT1H
X-Robots-Tag:noindex
X-PUBLISHED-TTL:PT1H
BEGIN:VTIMEZONE
TZID:America/New_York
BEGIN:DAYLIGHT
TZOFFSETFROM:-0500
TZOFFSETTO:-0400
TZNAME:EDT
DTSTART:20250309T070000
END:DAYLIGHT
BEGIN:STANDARD
TZOFFSETFROM:-0400
TZOFFSETTO:-0500
TZNAME:EST
DTSTART:20251102T060000
END:STANDARD
BEGIN:DAYLIGHT
TZOFFSETFROM:-0500
TZOFFSETTO:-0400
TZNAME:EDT
DTSTART:20260308T070000
END:DAYLIGHT
BEGIN:STANDARD
TZOFFSETFROM:-0400
TZOFFSETTO:-0500
TZNAME:EST
DTSTART:20261101T060000
END:STANDARD
BEGIN:DAYLIGHT
TZOFFSETFROM:-0500
TZOFFSETTO:-0400
TZNAME:EDT
DTSTART:20270314T070000
END:DAYLIGHT
BEGIN:STANDARD
TZOFFSETFROM:-0400
TZOFFSETTO:-0500
TZNAME:EST
DTSTART:20271107T060000
END:STANDARD
END:VTIMEZONE
BEGIN:VEVENT
DTSTART;TZID=America/New_York:20261208T190000
DTEND;TZID=America/New_York:20261208T210000
DTSTAMP:20260419T201458
CREATED:20251210T140849Z
LAST-MODIFIED:20260309T002631Z
UID:3128-1796756400-1796763600@www.pemibakerba.org
SUMMARY:Monthly Meeting December
DESCRIPTION:Pemi-Baker Beekeepers Association Monthly Meeting at the Ashland Booster Club in Ashland. \nDecember 2026 Meeting Agenda
URL:https://www.pemibakerba.org/event/monthly-meeting-december-4/
END:VEVENT
END:VCALENDAR