BEGIN:VCALENDAR
VERSION:2.0
PRODID:-//Pemi-Baker Beekeepers Association - ECPv6.15.20//NONSGML v1.0//EN
CALSCALE:GREGORIAN
METHOD:PUBLISH
X-WR-CALNAME:Pemi-Baker Beekeepers Association
X-ORIGINAL-URL:https://www.pemibakerba.org
X-WR-CALDESC:Events for Pemi-Baker Beekeepers Association
REFRESH-INTERVAL;VALUE=DURATION:PT1H
X-Robots-Tag:noindex
X-PUBLISHED-TTL:PT1H
BEGIN:VTIMEZONE
TZID:America/New_York
BEGIN:DAYLIGHT
TZOFFSETFROM:-0500
TZOFFSETTO:-0400
TZNAME:EDT
DTSTART:20230312T070000
END:DAYLIGHT
BEGIN:STANDARD
TZOFFSETFROM:-0400
TZOFFSETTO:-0500
TZNAME:EST
DTSTART:20231105T060000
END:STANDARD
BEGIN:DAYLIGHT
TZOFFSETFROM:-0500
TZOFFSETTO:-0400
TZNAME:EDT
DTSTART:20240310T070000
END:DAYLIGHT
BEGIN:STANDARD
TZOFFSETFROM:-0400
TZOFFSETTO:-0500
TZNAME:EST
DTSTART:20241103T060000
END:STANDARD
BEGIN:DAYLIGHT
TZOFFSETFROM:-0500
TZOFFSETTO:-0400
TZNAME:EDT
DTSTART:20250309T070000
END:DAYLIGHT
BEGIN:STANDARD
TZOFFSETFROM:-0400
TZOFFSETTO:-0500
TZNAME:EST
DTSTART:20251102T060000
END:STANDARD
END:VTIMEZONE
BEGIN:VEVENT
DTSTART;TZID=America/New_York:20240727T100000
DTEND;TZID=America/New_York:20240727T150000
DTSTAMP:20260421T173922
CREATED:20240617T205552Z
LAST-MODIFIED:20240617T205552Z
UID:2719-1722074400-1722092400@www.pemibakerba.org
SUMMARY:NHBA Muster Field Farm Picnic
DESCRIPTION:For more information go to https://www.nhbeekeepers.org/event/nhba-muster-field-farm-picnic \n  \nThis event is free to all but registration is required. Please register here (at the bottom of the page):\nhttps://www.nhbeekeepers.org/membership
URL:https://www.pemibakerba.org/event/nhba-muster-field-farm-picnic/
LOCATION:Muster Field Farm\, Harvey Road\, North Sutton\, NH
END:VEVENT
BEGIN:VEVENT
DTSTART;TZID=America/New_York:20240709T190000
DTEND;TZID=America/New_York:20240709T210000
DTSTAMP:20260421T173922
CREATED:20240106T214154Z
LAST-MODIFIED:20240708T200249Z
UID:2578-1720551600-1720558800@www.pemibakerba.org
SUMMARY:Monthly Meeting July
DESCRIPTION:Pemi-Baker Beekeepers Association Monthly Meeting at the American Legion Hall in Ashland and Zoom. \nJuly 2024 meeting agenda
URL:https://www.pemibakerba.org/event/monthly-meeting-july-2/
LOCATION:American Legion Hall and Zoom
END:VEVENT
BEGIN:VEVENT
DTSTART;TZID=America/New_York:20240611T190000
DTEND;TZID=America/New_York:20240611T210000
DTSTAMP:20260421T173922
CREATED:20231114T023017Z
LAST-MODIFIED:20240609T203054Z
UID:2549-1718132400-1718139600@www.pemibakerba.org
SUMMARY:Monthly Meeting June
DESCRIPTION:Pemi-Baker Beekeepers Association Monthly Meeting at the American Legion Hall in Ashland and Zoom. \nJune 2024 Meeting Agenda
URL:https://www.pemibakerba.org/event/monthly-meeting-june-2/
LOCATION:American Legion Hall and Zoom
END:VEVENT
BEGIN:VEVENT
DTSTART;TZID=America/New_York:20240514T190000
DTEND;TZID=America/New_York:20240514T210000
DTSTAMP:20260421T173922
CREATED:20231114T022816Z
LAST-MODIFIED:20240513T191237Z
UID:2547-1715713200-1715720400@www.pemibakerba.org
SUMMARY:Monthly Meeting May
DESCRIPTION:Pemi-Baker Beekeepers Association Monthly Meeting at the American Legion Hall in Ashland and Zoom. \nMay 2024 Meeting Agenda
URL:https://www.pemibakerba.org/event/monthly-meeting-may-2/
LOCATION:American Legion Hall and Zoom
END:VEVENT
BEGIN:VEVENT
DTSTART;TZID=America/New_York:20240503T090000
DTEND;TZID=America/New_York:20240504T160000
DTSTAMP:20260421T173922
CREATED:20240424T152015Z
LAST-MODIFIED:20240424T152015Z
UID:2686-1714726800-1714838400@www.pemibakerba.org
SUMMARY:NH Farm\, Forest and Garden Expo
DESCRIPTION:New Hampshire Beekeepers Association (NHBA) is seeking 30 volunteers to volunteer for (2) hour time slots at their booth at The Farm and Forest Expo.  The Expo runs May 3rd 9am to 7pm and May 4th 9am to 4pm at the Deerfield Fair Grounds.  No experience necessary\, brand new beekeepers are welcomed. \nThis is a great opportunity to hang out with fellow beekeepers and talk with Expo attendees about beekeeping.  There will be an observation hive and kids (and adults) love to watch the bees and try to find the (marked) queen.  NHBA provides some giveaways such as stickers for finding the queen and informational brochures\, etc. \nAs a booth volunteer you will be granted complimentary entrance to the Expo and can spend time wandering before or after your shift at the booth! \nIf interested you can text Cecile at 603-494-7510 with your name\, club affiliation and availability. \nThanks!
URL:https://www.pemibakerba.org/event/nh-farm-forest-and-garden-expo/
LOCATION:Deerfield Fair Grounds\, NH
END:VEVENT
END:VCALENDAR