BEGIN:VCALENDAR
VERSION:2.0
PRODID:-//Pemi-Baker Beekeepers Association - ECPv6.15.20//NONSGML v1.0//EN
CALSCALE:GREGORIAN
METHOD:PUBLISH
X-WR-CALNAME:Pemi-Baker Beekeepers Association
X-ORIGINAL-URL:https://www.pemibakerba.org
X-WR-CALDESC:Events for Pemi-Baker Beekeepers Association
REFRESH-INTERVAL;VALUE=DURATION:PT1H
X-Robots-Tag:noindex
X-PUBLISHED-TTL:PT1H
BEGIN:VTIMEZONE
TZID:America/New_York
BEGIN:DAYLIGHT
TZOFFSETFROM:-0500
TZOFFSETTO:-0400
TZNAME:EDT
DTSTART:20240310T070000
END:DAYLIGHT
BEGIN:STANDARD
TZOFFSETFROM:-0400
TZOFFSETTO:-0500
TZNAME:EST
DTSTART:20241103T060000
END:STANDARD
BEGIN:DAYLIGHT
TZOFFSETFROM:-0500
TZOFFSETTO:-0400
TZNAME:EDT
DTSTART:20250309T070000
END:DAYLIGHT
BEGIN:STANDARD
TZOFFSETFROM:-0400
TZOFFSETTO:-0500
TZNAME:EST
DTSTART:20251102T060000
END:STANDARD
BEGIN:DAYLIGHT
TZOFFSETFROM:-0500
TZOFFSETTO:-0400
TZNAME:EDT
DTSTART:20260308T070000
END:DAYLIGHT
BEGIN:STANDARD
TZOFFSETFROM:-0400
TZOFFSETTO:-0500
TZNAME:EST
DTSTART:20261101T060000
END:STANDARD
END:VTIMEZONE
BEGIN:VEVENT
DTSTART;TZID=America/New_York:20250222T090000
DTEND;TZID=America/New_York:20250222T150000
DTSTAMP:20260421T222203
CREATED:20241206T202323Z
LAST-MODIFIED:20250212T151422Z
UID:2829-1740214800-1740236400@www.pemibakerba.org
SUMMARY:2025 NHBA Spring Meeting
DESCRIPTION:2025 NHBA Spring Meeting and Raffle with Dr. Natalie Steinhauer.
URL:https://www.pemibakerba.org/event/2025-nhba-spring-meeting/
LOCATION:Camp Carpenter\, 300 Blondin Rd\, Manchester\, NH\, 03109\, United States
END:VEVENT
END:VCALENDAR